BEGIN:VCALENDAR
VERSION:2.0
PRODID:-//Tukios.com/
BEGIN:VEVENT
UID:238e1129-7902-4b65-8798-376d1cc55406@www.milesfuneralhome.com
DTSTAMP:20260421T201007Z
DTSTART:20260423T210000Z
DTEND:20260423T230000Z
SUMMARY:Visitation
DESCRIPTION:
URL:https://www.milesfuneralhome.com/obituaries/diane-routhier
LOCATION: 1158 Main Street  Holden MA 01520
GEO:42.3503705;-71.8605616
END:VEVENT
END:VCALENDAR