BEGIN:VCALENDAR
VERSION:2.0
PRODID:-//Tukios.com/
BEGIN:VEVENT
UID:817f715d-6614-4176-8b0f-5ab5ca9378dd@www.milesfuneralhome.com
DTSTAMP:20260420T003900Z
DTSTART:20260427T200000Z
DTEND:20260427T230000Z
SUMMARY:Visitation
DESCRIPTION:
URL:https://www.milesfuneralhome.com/obituaries/dorcas-mccracken
LOCATION: 1158 Main Street  Holden MA 01520
GEO:42.3503705;-71.8605616
END:VEVENT
END:VCALENDAR