BEGIN:VCALENDAR
VERSION:2.0
PRODID:-//Tukios.com/
BEGIN:VEVENT
UID:6c93eef2-350e-4a86-8718-de9ff73ad399@www.milesfuneralhome.com
DTSTAMP:20260420T004102Z
DTSTART:20260428T140000Z
DTEND:20260428T150000Z
SUMMARY:Funeral Service
DESCRIPTION:
URL:https://www.milesfuneralhome.com/obituaries/dorcas-mccracken
LOCATION: 1216 Main Street  Holden MA 01520
GEO:42.3514564;-71.8636471
END:VEVENT
END:VCALENDAR