BEGIN:VCALENDAR
VERSION:2.0
PRODID:-//Tukios.com/
BEGIN:VEVENT
UID:5ada4dde-f308-4c55-87fd-4294090d7415@www.milesfuneralhome.com
DTSTAMP:20260420T005130Z
DTSTART:20260428T153000Z
DTEND:20260428T163000Z
SUMMARY:Interment
DESCRIPTION:
URL:https://www.milesfuneralhome.com/obituaries/dorcas-mccracken
LOCATION: 217 Richards Avenue  Paxton MA 01612
GEO:42.3235643;-71.9319831
END:VEVENT
END:VCALENDAR