BEGIN:VCALENDAR
VERSION:2.0
PRODID:-//Tukios.com/
BEGIN:VEVENT
UID:e83944c5-c262-420c-ab32-566972453ee4@www.milesfuneralhome.com
DTSTAMP:20260424T044817Z
DTSTART:20260429T140000Z
DTEND:20260429T150000Z
SUMMARY:Visitation
DESCRIPTION:
URL:https://www.milesfuneralhome.com/obituaries/emilia-medina
LOCATION: 1158 Main Street  Holden MA 01520
GEO:42.3503705;-71.8605616
END:VEVENT
END:VCALENDAR