BEGIN:VCALENDAR
VERSION:2.0
PRODID:-//Tukios.com/
BEGIN:VEVENT
UID:de6cd9b1-b474-4563-a3b8-41b037f64205@www.milesfuneralhome.com
DTSTAMP:20260424T043615Z
DTSTART:20260429T150000Z
DTEND:20260429T151500Z
SUMMARY:Funeral Service
DESCRIPTION:
URL:https://www.milesfuneralhome.com/obituaries/emilia-medina
LOCATION: 1158 Main Street  Holden MA 01520
GEO:42.3503705;-71.8605616
END:VEVENT
END:VCALENDAR